BEGIN:VCALENDAR
VERSION:2.0
CALSCALE:GREGORIAN
PRODID:adamgibbons/ics
METHOD:PUBLISH
X-PUBLISHED-TTL:PT1H
BEGIN:VEVENT
UID:776@torontol.askapunk.net
SUMMARY:SPIRITUAL LAW (Austria)\, HOGTIED\, BAD EGG\, KLEENER
DTSTAMP:20260425T145700Z
DTSTART:20260531T000000Z
DTEND:20260531T024500Z
URL:https://toronto.askapunk.net/event/spiritual-law-austria-hogtied-kleene
	r
LOCATION:St. Stephen-in-the-fields - 103 Bellevue Ave\, Toronto\, ON M5T 2N
	8
STATUS:CONFIRMED
CATEGORIES:HARDCORE,Hogtied,Kleener,Pressing On,Punk,broken skull
END:VEVENT
BEGIN:VEVENT
UID:777@torontol.askapunk.net
SUMMARY:FAN CLUB (Seattle)
DTSTAMP:20260425T145700Z
DTSTART:20260717T000000Z
DTEND:20260717T030000Z
URL:https://toronto.askapunk.net/event/fan-club-seattle
LOCATION:tba - Toronto
STATUS:CONFIRMED
CATEGORIES:Fan club,Pressing On
END:VEVENT
BEGIN:VEVENT
UID:778@torontol.askapunk.net
SUMMARY:ZORN (Philly)
DTSTAMP:20260425T145700Z
DTSTART:20260720T000000Z
DTEND:20260720T030000Z
URL:https://toronto.askapunk.net/event/zorn-philly
LOCATION:tba - Toronto
STATUS:CONFIRMED
CATEGORIES:Pressing On,Zorn
END:VEVENT
END:VCALENDAR
